BEGIN:VCALENDAR
VERSION:2.0
PRODID:Events Booking
BEGIN:VEVENT
UID:69e97b59695c8
SUMMARY:CARBONO COMO RIESGO FINANCIERO Y REGULATORIO
DESCRIPTION:Al finalizar el curso\, los y las participantes podrán evaluar
  cuándo el carbono representa un riesgo material para la empresa\, cómo 
 cuantificarlo en términos económicos y cómo usar esta información para
  priorizar inversiones\, evitar decisiones erróneas y dialogar con áreas
  financieras\, directivas y regulatorias.
DTSTART:20260623T130000Z
DTEND:20260706T150000Z
DTSTAMP:20260422T090704Z
ORGANIZER;CN=Pacto Global Red Colombia:MAILTO:eventos@pactoglobal-colombia.
 org
END:VEVENT
END:VCALENDAR